BEGIN:VCALENDAR
VERSION:2.0
PRODID:Events Booking
BEGIN:VEVENT
UID:69e5c5b434868
SUMMARY:Lymphedema: A Physician Intensive
DESCRIPTION:
LOCATION:3368 Peachtree Rd NE\, Atlanta\, GA 30326\, USA
DTSTART:20261110T230000Z
DTEND:20261111T020000Z
DTSTAMP:20260420T000646Z
ORGANIZER;CN=Lighthouse Lymphedema Network:MAILTO:administrator@lighthousel
 ymphedema.org
GEO:33.848244;-84.367102
X-APPLE-STRUCTURED-LOCATION;VALUE=URI;X-ADDRESS=3368 Peachtree Rd NE\, Atla
 nta\, GA 30326\, USA;X-APPLE-RADIUS=72;X-TITLE=Maggiano's Little Italy:33.
 848244;-84.367102
END:VEVENT
END:VCALENDAR